BEGIN:VCALENDAR
VERSION:2.0
PRODID:-//Overtime Sports Bar &amp; Grill Sudbury - ECPv6.15.17.1//NONSGML v1.0//EN
CALSCALE:GREGORIAN
METHOD:PUBLISH
X-ORIGINAL-URL:https://sudburysportsbar.com
X-WR-CALDESC:Events for Overtime Sports Bar &amp; Grill Sudbury
REFRESH-INTERVAL;VALUE=DURATION:PT1H
X-Robots-Tag:noindex
X-PUBLISHED-TTL:PT1H
BEGIN:VTIMEZONE
TZID:America/Toronto
BEGIN:DAYLIGHT
TZOFFSETFROM:-0500
TZOFFSETTO:-0400
TZNAME:EDT
DTSTART:20250309T070000
END:DAYLIGHT
BEGIN:STANDARD
TZOFFSETFROM:-0400
TZOFFSETTO:-0500
TZNAME:EST
DTSTART:20251102T060000
END:STANDARD
BEGIN:DAYLIGHT
TZOFFSETFROM:-0500
TZOFFSETTO:-0400
TZNAME:EDT
DTSTART:20260308T070000
END:DAYLIGHT
BEGIN:STANDARD
TZOFFSETFROM:-0400
TZOFFSETTO:-0500
TZNAME:EST
DTSTART:20261101T060000
END:STANDARD
BEGIN:DAYLIGHT
TZOFFSETFROM:-0500
TZOFFSETTO:-0400
TZNAME:EDT
DTSTART:20270314T070000
END:DAYLIGHT
BEGIN:STANDARD
TZOFFSETFROM:-0400
TZOFFSETTO:-0500
TZNAME:EST
DTSTART:20271107T060000
END:STANDARD
END:VTIMEZONE
BEGIN:VEVENT
DTSTART;TZID=America/Toronto:20260131T210000
DTEND;TZID=America/Toronto:20260201T010000
DTSTAMP:20260421T094553
CREATED:20260126T201301Z
LAST-MODIFIED:20260126T201526Z
UID:170-1769893200-1769907600@sudburysportsbar.com
SUMMARY:UFC 325
DESCRIPTION:
URL:https://sudburysportsbar.com/event/ufc-325/
ATTACH;FMTTYPE=image/jpeg:https://sudburysportsbar.com/wp-content/uploads/2026/01/UFC-325.jpg
END:VEVENT
BEGIN:VEVENT
DTSTART;TZID=America/Toronto:20260126T190000
DTEND;TZID=America/Toronto:20260126T230000
DTSTAMP:20260421T094553
CREATED:20260126T194501Z
LAST-MODIFIED:20260126T201619Z
UID:164-1769454000-1769468400@sudburysportsbar.com
SUMMARY:Sabers @ Leafs
DESCRIPTION:
URL:https://sudburysportsbar.com/event/sabers-leafs/
ATTACH;FMTTYPE=image/jpeg:https://sudburysportsbar.com/wp-content/uploads/2026/01/sabers-at-leafs.jpg
END:VEVENT
BEGIN:VEVENT
DTSTART;TZID=America/Toronto:20260126T080000
DTEND;TZID=America/Toronto:20260126T170000
DTSTAMP:20260421T094553
CREATED:20260126T191420Z
LAST-MODIFIED:20260306T204840Z
UID:149-1769414400-1769446800@sudburysportsbar.com
SUMMARY:UFC 324
DESCRIPTION:  \n 
URL:https://sudburysportsbar.com/event/test/
ATTACH;FMTTYPE=image/jpeg:https://sudburysportsbar.com/wp-content/uploads/2026/01/EVENT-TEST.jpg
END:VEVENT
BEGIN:VEVENT
DTSTART;TZID=America/Toronto:20260126T070000
DTEND;TZID=America/Toronto:20260126T230000
DTSTAMP:20260421T094553
CREATED:20260126T193443Z
LAST-MODIFIED:20260126T193443Z
UID:159-1769410800-1769468400@sudburysportsbar.com
SUMMARY:Ducks @ Oilers
DESCRIPTION:
URL:https://sudburysportsbar.com/event/ducks-oilers/
ATTACH;FMTTYPE=image/jpeg:https://sudburysportsbar.com/wp-content/uploads/2026/01/ducks-at-oilers.jpg
END:VEVENT
END:VCALENDAR